BEGIN:VCALENDAR
VERSION:2.0
PRODID:-//Les moutons électriques — le blog - ECPv5.16.4//NONSGML v1.0//EN
CALSCALE:GREGORIAN
METHOD:PUBLISH
X-WR-CALNAME:Les moutons électriques — le blog
X-ORIGINAL-URL:http://blog.moutons-electriques.fr
X-WR-CALDESC:évènements pour Les moutons électriques — le blog
BEGIN:VTIMEZONE
TZID:UTC
BEGIN:STANDARD
TZOFFSETFROM:+0000
TZOFFSETTO:+0000
TZNAME:UTC
DTSTART:20240101T000000
END:STANDARD
END:VTIMEZONE
BEGIN:VEVENT
DTSTART;VALUE=DATE:20240510
DTEND;VALUE=DATE:20240511
DTSTAMP:20260419T140223
CREATED:20240502T111835Z
LAST-MODIFIED:20240502T111842Z
UID:4941-1715299200-1715385599@blog.moutons-electriques.fr
SUMMARY:Signature Stefan Platteau
DESCRIPTION:Signature de Stefan Platteau à la librairie L’Oiseau-tempête.
URL:http://blog.moutons-electriques.fr/date/signature-stefan-platteau-15/
LOCATION:L’Oiseau-tempête\, Lausanne\, Suisse
END:VEVENT
END:VCALENDAR